BEGIN:VCALENDAR
VERSION:2.0
PRODID:-//Quiet Aid - ECPv6.15.11//NONSGML v1.0//EN
CALSCALE:GREGORIAN
METHOD:PUBLISH
X-WR-CALNAME:Quiet Aid
X-ORIGINAL-URL:https://quietaid.info
X-WR-CALDESC:Events for Quiet Aid
REFRESH-INTERVAL;VALUE=DURATION:PT1H
X-Robots-Tag:noindex
X-PUBLISHED-TTL:PT1H
BEGIN:VTIMEZONE
TZID:Asia/Bishkek
BEGIN:STANDARD
TZOFFSETFROM:+0600
TZOFFSETTO:+0600
TZNAME:+06
DTSTART:20230101T000000
END:STANDARD
END:VTIMEZONE
BEGIN:VEVENT
DTSTART;TZID=Asia/Bishkek:20240426T153000
DTEND;TZID=Asia/Bishkek:20240426T180000
DTSTAMP:20260424T194852
CREATED:20240408T144241Z
LAST-MODIFIED:20240415T020814Z
UID:1078-1714145400-1714154400@quietaid.info
SUMMARY:Quiet Aid across the Balkans and Central Asia
DESCRIPTION:
URL:https://quietaid.info/event/quiet-across-the-balkans-and-central-asia/
LOCATION:American University of Central Asia\, Bishkek\, Kyrgyzstan
END:VEVENT
END:VCALENDAR