BEGIN:VCALENDAR
VERSION:2.0
PRODID:-//Quiet Aid - ECPv6.15.11//NONSGML v1.0//EN
CALSCALE:GREGORIAN
METHOD:PUBLISH
X-WR-CALNAME:Quiet Aid
X-ORIGINAL-URL:https://quietaid.info
X-WR-CALDESC:Events for Quiet Aid
REFRESH-INTERVAL;VALUE=DURATION:PT1H
X-Robots-Tag:noindex
X-PUBLISHED-TTL:PT1H
BEGIN:VTIMEZONE
TZID:America/New_York
BEGIN:DAYLIGHT
TZOFFSETFROM:-0500
TZOFFSETTO:-0400
TZNAME:EDT
DTSTART:20230312T070000
END:DAYLIGHT
BEGIN:STANDARD
TZOFFSETFROM:-0400
TZOFFSETTO:-0500
TZNAME:EST
DTSTART:20231105T060000
END:STANDARD
BEGIN:DAYLIGHT
TZOFFSETFROM:-0500
TZOFFSETTO:-0400
TZNAME:EDT
DTSTART:20240310T070000
END:DAYLIGHT
BEGIN:STANDARD
TZOFFSETFROM:-0400
TZOFFSETTO:-0500
TZNAME:EST
DTSTART:20241103T060000
END:STANDARD
BEGIN:DAYLIGHT
TZOFFSETFROM:-0500
TZOFFSETTO:-0400
TZNAME:EDT
DTSTART:20250309T070000
END:DAYLIGHT
BEGIN:STANDARD
TZOFFSETFROM:-0400
TZOFFSETTO:-0500
TZNAME:EST
DTSTART:20251102T060000
END:STANDARD
END:VTIMEZONE
BEGIN:VEVENT
DTSTART;TZID=America/New_York:20240410T163000
DTEND;TZID=America/New_York:20240410T180000
DTSTAMP:20260424T195809
CREATED:20240408T143650Z
LAST-MODIFIED:20240408T143650Z
UID:1072-1712766600-1712772000@quietaid.info
SUMMARY:Evicting the Living God: Trans-imperial Islam and the Soviet Union on the Eve of Partition
DESCRIPTION:by Till Mostowlansky \nThe establishment of Soviet rule in the southern parts of Central Asia bordering the British Empire has largely been researched through the lens of geopolitical competition. Virtually nothing is known about how the region’s Muslim populations experienced this period of revolution and war leading up to the 1947 partition of India. Using Persian\, Russian and Urdu sources\, this talk explores the Muslim networks that linked Central Asia with South Asia at the time. It further discusses how the study of these trans-imperial connections contributes to a nuanced understanding of attempts at re-engagement\, as well as persistent disconnection\, in the present.
URL:https://quietaid.info/event/evicting-the-living-god-trans-imperial-islam-and-the-soviet-union-on-the-eve-of-partition/
LOCATION:Cornell University\, Ithaca\, NY\, United States
ATTACH;FMTTYPE=image/png:https://quietaid.info/wp-content/uploads/2024/04/Screenshot-2024-03-07-at-9.34.47 am.png
END:VEVENT
END:VCALENDAR