BEGIN:VCALENDAR
VERSION:2.0
PRODID:-//Quiet Aid - ECPv6.15.11//NONSGML v1.0//EN
CALSCALE:GREGORIAN
METHOD:PUBLISH
X-ORIGINAL-URL:https://quietaid.info
X-WR-CALDESC:Events for Quiet Aid
REFRESH-INTERVAL;VALUE=DURATION:PT1H
X-Robots-Tag:noindex
X-PUBLISHED-TTL:PT1H
BEGIN:VTIMEZONE
TZID:Europe/Zurich
BEGIN:DAYLIGHT
TZOFFSETFROM:+0100
TZOFFSETTO:+0200
TZNAME:CEST
DTSTART:20230326T010000
END:DAYLIGHT
BEGIN:STANDARD
TZOFFSETFROM:+0200
TZOFFSETTO:+0100
TZNAME:CET
DTSTART:20231029T010000
END:STANDARD
BEGIN:DAYLIGHT
TZOFFSETFROM:+0100
TZOFFSETTO:+0200
TZNAME:CEST
DTSTART:20240331T010000
END:DAYLIGHT
BEGIN:STANDARD
TZOFFSETFROM:+0200
TZOFFSETTO:+0100
TZNAME:CET
DTSTART:20241027T010000
END:STANDARD
BEGIN:DAYLIGHT
TZOFFSETFROM:+0100
TZOFFSETTO:+0200
TZNAME:CEST
DTSTART:20250330T010000
END:DAYLIGHT
BEGIN:STANDARD
TZOFFSETFROM:+0200
TZOFFSETTO:+0100
TZNAME:CET
DTSTART:20251026T010000
END:STANDARD
END:VTIMEZONE
BEGIN:VEVENT
DTSTART;TZID=Europe/Zurich:20240125T090000
DTEND;TZID=Europe/Zurich:20240126T170000
DTSTAMP:20260425T000943
CREATED:20240122T204752Z
LAST-MODIFIED:20240122T205352Z
UID:1055-1706173200-1706288400@quietaid.info
SUMMARY:Humanitarianism from Below:‬ Alter-Politics and Struggles for the Universa‬‭l‬ ‭
DESCRIPTION:This workshop explores the ongoing emergence of humanitarianism from below as central to the transformation of humanitarian landscapes around the world. It aims to research the space between international Western-led humanitarianism and the diverse practices of welfare\, support and solidarity that make up humanitarianism from below. The workshop thereby analyses a politically salient and increasingly visible scale of humanitarianism that both mirrors and challenges the logics of international humanitarianism. Actors involved in such humanitarianism from below often reside in ambivalent settings that are subject to multiple constellations of power and they evade pre-defined containers such as “Western” and “Global South/North.” The workshop establishes an analytical optic onto such movements\, institutions and ad-hoc initiatives as part of comparable forms of “alter-politics” (Hage 2015) that are not simply defined by opposition against dominant forms (“anti”)\, but rather offer different notions and critiques of humanity (“alter”) in a time of global transformation. Critically interrogating the notion of humanitarianism as “an ethos\, a cluster of sentiments\, a set of laws\, a moral imperative to intervene\, and a form of government” (Ticktin 2014: 274) the workshop addresses the urgent need to better understand actors that are outside but not necessarily disconnected from the established spectrum of international humanitarianism. To this end\, this workshop brings into conversation anthropological approaches to humanitarianism with concepts from political anthropology exploring solidarity\, alter-politics and universalism. Download the workshop program here: Humanitarianism from Below \n 
URL:https://quietaid.info/event/humanitarianism-from-below-alter-politics-and-struggles-for-the-universal/
LOCATION:Austrian Academy of Sciences\, Vienna\, Austria
ATTACH;FMTTYPE=application/pdf:https://quietaid.info/wp-content/uploads/2024/01/Program_Humanitarianism-from-below.pdf
ORGANIZER;CN="Quiet Aid":MAILTO:till@quietaid.info
END:VEVENT
END:VCALENDAR